BEGIN:VCALENDAR
PRODID:-//hacksw/handcal//NONSGML v1.0//EN
VERSION:2.0
METHOD:PUBLISH
BEGIN:VEVENT
DTSTART:20230426T213000Z
DTEND:20230427T001500Z
LOCATION:Hyatt Regency Miami 400 S. E. Second Avenue Miami, Florida 33131
UID:2280420230426T213000ZRevised Date - Now April 26, 2023 Workshop + Dinner Meeting
DTSTAMP:20260423T213549Z
DESCRIPTION:\nJOIN US!!!\n \nDATE: Wednesday, April 26, 2023\n \nLOCATION: Hyatt Regency Miami\n400 S. E. Second Avenue\nMiami, Florida 33131\n \nWorkshop – 5:30 – 6:20 p.m.\n \n \n \n"Should I Stay or Should I Go?"\n \n \n \nInternational Tax Planning and Structuring\n \nPresented by:\n \nGary A. Forster, J.D., LL.M. and Thomas C. Shaw, J.D.\n \n \n \n[](https://www.forsterboughman.com/)\n \n \n \n \n \n[](https://www.forsterboughman.com/index.php/attorneys/gary-a-forster)\n \n[Gary A. Forster, J.D., LL.M.](https://www.forsterboughman.com/index.php/attorneys/gary-a-forster)\n \n[](https://www.forsterboughman.com/index.php/attorneys/thomas-c-shaw)\n \n[Thomas C. Shaw, J.D.](https://www.forsterboughman.com/index.php/attorneys/thomas-c-shaw)\n \n \n \nCocktails and Dinner- 6:30 – 8:15 p.m.\n \n \n \n"Family Bene-Volence - Money Transfers as Investments in Well-Being"\n \n[](https://web-xp2b-pws.ntrs.com/insights-research/our-experts/detail?c=2481bdda4b5123caa1130b8d4c946ef6#%7Bcriteria%3DSummary%2FExpert%3A%22Ray+Odom%22%29+AND+%28%7D)\n \nPresented by:\n \n[Ray Odom](https://web-xp2b-pws.ntrs.com/insights-research/our-experts/detail?c=2481bdda4b5123caa1130b8d4c946ef6#%7Bcriteria%3DSummary%2FExpert%3A%22Ray+Odom%22%29+AND+%28%7D)\n \n[CFP - Director of Wealth Transfer Services](https://web-xp2b-pws.ntrs.com/insights-research/our-experts/detail?c=2481bdda4b5123caa1130b8d4c946ef6#%7Bcriteria%3DSummary%2FExpert%3A%22Ray+Odom%22%29+AND+%28%7D)\n \n[](https://www.northerntrust.com/united-states/home)\n \n \n \nThis Workshop & Dinner Meeting is generously sponsored by:\n \n \n \n[](https://www.northerntrust.com/united-states/home)\n \n \n \nThe workshop and dinner sessions have applied for 1 hour of continuing education credit \n \nfor each session in the following disciplines:\n \nCLE (Legal), CFP® (Certified Financial Planners) and CPE(Accountancy)\n \nPlease send your RSVP so that we may guarantee dinner accommodations for you and your guests. Be sure to include your food preference: chicken, fish or vegetarian.\n \nPlease RSVP at https://www.epcmiami.org/events/event/22804\n \nThe guest fee for this meeting is $100. You may prepay by credit card or you may pay by credit card or check at the door (make your check payable to the Estate Planning Council). As a guest, if you decide to become a member of our organization within 45 days of this meeting, the $100 will be credited toward the fee for any membership.\n \nMembership dues include the cost of all dinners.\n \n \n \nThanks to our annual sponsors!!!\n \nPLATINUM SPONSORS\n \n[](https://cgtrust.com/)[](https://www.fnbsm.com/)\n \nGOLD SPONSORS\n \n[](https://www.northerntrust.com/united-states/institute/northern-trust-in-florida?gclid=CjwKCAjw1ICZBhAzEiwAFfvFhBp1PJbrYtJcQYx5pHwSxcEY7QeEmH6XIA0pOC7jHU2S5HaPMN7X-RoCDbwQAvD_BwE)\n \n \n \n[](https://kaufmanrossin.com)\n
SUMMARY:Revised Date - Now April 26, 2023 Workshop + Dinner Meeting - Estate Planning Council of Greater Miami 
PRIORITY:3
BEGIN:VALARM
TRIGGER:PT18H
ACTION:DISPLAY
DESCRIPTION:Reminder
END:VALARM
END:VEVENT
END:VCALENDAR