BEGIN:VCALENDAR
PRODID:-//hacksw/handcal//NONSGML v1.0//EN
VERSION:2.0
METHOD:PUBLISH
BEGIN:VEVENT
DTSTART:20201008T153000Z
DTEND:20201008T173000Z
LOCATION:Webinar
UID:1982520201008T153000ZOctober 8, 2020 - Joint Webinar with FPA Miami
DTSTAMP:20260426T040817Z
DESCRIPTION:\nJoin Us for a Special Joint Webinar\n  with the Financial Planning Association (FPA) of Miami\n \nThursday, October 8, 2020\n \nWebinar Presentations\n \nWorkshop: 11:30 p.m. to 12:20 p.m.\n \nResiliency, and Contingency Planning \nfor Individuals and Businesses in the Age of COVID-19\n \n\n \nSpeakers:\nJames Wolcott and Glenn Davis, CPA\n Kaufman Rossin\n \nPresentation - 12:30 p.m. to 1:20 p.m.\n \nThe Case for Virtual Currencies in the Age of COVID-19\n \n\n \nSpeaker:\nYaury A. Jattin, MST, CPA\nKaufman Rossin\n \nThe webinar has applied for\n for 1 hour of continuing education credit for each session (total 2 CE Hours) for the following disciplines:\n \nCLE (Legal), CFP® (Certified Financial Planners) and CPE(Accountancy)\n \nCost:  Free to EPC of Miami and FPA of Miami Members\n Non-Members/Guests:  $35\n \nWebinar Dial-In details will be distributed via email in advance of the session.\n \nThis Meeting is Generously Sponsored by\n \n[](https://kaufmanrossin.com/)\n \nFor more information and to receive news and updates from the Council follow us:\n \nfacebook.com/estateplanningmiami\ntwitter.com/epcmiami\nhttps://www.linkedin.com/company/estate-planning-council-of-greater-miami/\n \n \n
SUMMARY:October 8, 2020 - Joint Webinar with FPA Miami - Estate Planning Council of Greater Miami 
PRIORITY:3
BEGIN:VALARM
TRIGGER:PT18H
ACTION:DISPLAY
DESCRIPTION:Reminder
END:VALARM
END:VEVENT
END:VCALENDAR